BEGIN:VCALENDAR
VERSION:2.0
PRODID:-//Schützenverein Enkesen Paradiese e.V. - ECPv5.16.4//NONSGML v1.0//EN
CALSCALE:GREGORIAN
METHOD:PUBLISH
X-WR-CALNAME:Schützenverein Enkesen Paradiese e.V.
X-ORIGINAL-URL:http://www.schuetzenverein-enkesen-paradiese.de
X-WR-CALDESC:Veranstaltungen für Schützenverein Enkesen Paradiese e.V.
REFRESH-INTERVAL;VALUE=DURATION:PT1H
X-Robots-Tag:noindex
X-PUBLISHED-TTL:PT1H
BEGIN:VTIMEZONE
TZID:Europe/Berlin
BEGIN:DAYLIGHT
TZOFFSETFROM:+0100
TZOFFSETTO:+0200
TZNAME:CEST
DTSTART:20230326T010000
END:DAYLIGHT
BEGIN:STANDARD
TZOFFSETFROM:+0200
TZOFFSETTO:+0100
TZNAME:CET
DTSTART:20231029T010000
END:STANDARD
BEGIN:DAYLIGHT
TZOFFSETFROM:+0100
TZOFFSETTO:+0200
TZNAME:CEST
DTSTART:20240331T010000
END:DAYLIGHT
BEGIN:STANDARD
TZOFFSETFROM:+0200
TZOFFSETTO:+0100
TZNAME:CET
DTSTART:20241027T010000
END:STANDARD
BEGIN:DAYLIGHT
TZOFFSETFROM:+0100
TZOFFSETTO:+0200
TZNAME:CEST
DTSTART:20250330T010000
END:DAYLIGHT
BEGIN:STANDARD
TZOFFSETFROM:+0200
TZOFFSETTO:+0100
TZNAME:CET
DTSTART:20251026T010000
END:STANDARD
BEGIN:DAYLIGHT
TZOFFSETFROM:+0100
TZOFFSETTO:+0200
TZNAME:CEST
DTSTART:20260329T010000
END:DAYLIGHT
BEGIN:STANDARD
TZOFFSETFROM:+0200
TZOFFSETTO:+0100
TZNAME:CET
DTSTART:20261025T010000
END:STANDARD
END:VTIMEZONE
BEGIN:VEVENT
DTSTART;TZID=Europe/Berlin:20260418T140000
DTEND;TZID=Europe/Berlin:20260418T170000
DTSTAMP:20260424T130641
CREATED:20260115T100446Z
LAST-MODIFIED:20260414T083833Z
UID:557-1776520800-1776531600@www.schuetzenverein-enkesen-paradiese.de
SUMMARY:Großreinigung der Halle
DESCRIPTION:
URL:http://www.schuetzenverein-enkesen-paradiese.de/event/generalreinigung-der-halle-2/
LOCATION:Schützenhalle Enkesen Paradiese\, Vöhdeweg 32\,\, Soest\, 59494\, Deutschland
END:VEVENT
BEGIN:VEVENT
DTSTART;VALUE=DATE:20260405
DTEND;VALUE=DATE:20260406
DTSTAMP:20260424T130641
CREATED:20260115T100406Z
LAST-MODIFIED:20260115T100406Z
UID:555-1775347200-1775433599@www.schuetzenverein-enkesen-paradiese.de
SUMMARY:Osterfeuer
DESCRIPTION:
URL:http://www.schuetzenverein-enkesen-paradiese.de/event/osterfeuer-2/
END:VEVENT
BEGIN:VEVENT
DTSTART;TZID=Europe/Berlin:20260228T200000
DTEND;TZID=Europe/Berlin:20260228T233000
DTSTAMP:20260424T130641
CREATED:20260115T100307Z
LAST-MODIFIED:20260115T100307Z
UID:553-1772308800-1772321400@www.schuetzenverein-enkesen-paradiese.de
SUMMARY:Jahreshauptversammlung
DESCRIPTION:
URL:http://www.schuetzenverein-enkesen-paradiese.de/event/jahreshauptversammlung-4/
LOCATION:Schützenhalle Enkesen Paradiese\, Vöhdeweg 32\,\, Soest\, 59494\, Deutschland
ORGANIZER;CN="Sch%C3%BCtzenverein%20Enkesen%20Paradiese%20e.V.":MAILTO:sv_enkesen-paradiese@gmx.de
END:VEVENT
BEGIN:VEVENT
DTSTART;TZID=Europe/Berlin:20260124T190000
DTEND;TZID=Europe/Berlin:20260124T233000
DTSTAMP:20260424T130641
CREATED:20260115T100145Z
LAST-MODIFIED:20260115T100145Z
UID:551-1769281200-1769297400@www.schuetzenverein-enkesen-paradiese.de
SUMMARY:Kneipenabend
DESCRIPTION:
URL:http://www.schuetzenverein-enkesen-paradiese.de/event/kneipenabend-2/
LOCATION:Schützenhalle Enkesen Paradiese\, Vöhdeweg 32\,\, Soest\, 59494\, Deutschland
ORGANIZER;CN="Sch%C3%BCtzenverein%20Enkesen%20Paradiese%20e.V.":MAILTO:sv_enkesen-paradiese@gmx.de
END:VEVENT
BEGIN:VEVENT
DTSTART;TZID=Europe/Berlin:20251116T093000
DTEND;TZID=Europe/Berlin:20251116T120000
DTSTAMP:20260424T130641
CREATED:20250105T143708Z
LAST-MODIFIED:20250105T143708Z
UID:484-1763285400-1763294400@www.schuetzenverein-enkesen-paradiese.de
SUMMARY:Volkstrauertag
DESCRIPTION:
URL:http://www.schuetzenverein-enkesen-paradiese.de/event/volkstrauertag-2/
END:VEVENT
BEGIN:VEVENT
DTSTART;TZID=Europe/Berlin:20250907T110000
DTEND;TZID=Europe/Berlin:20250907T150000
DTSTAMP:20260424T130641
CREATED:20250831T173530Z
LAST-MODIFIED:20250831T173530Z
UID:538-1757242800-1757257200@www.schuetzenverein-enkesen-paradiese.de
SUMMARY:Erntedankfest 2025
DESCRIPTION:
URL:http://www.schuetzenverein-enkesen-paradiese.de/event/erntedankfest-2025/
LOCATION:Schützenhalle Enkesen Paradiese\, Vöhdeweg 32\,\, Soest\, 59494\, Deutschland
END:VEVENT
BEGIN:VEVENT
DTSTART;VALUE=DATE:20250731
DTEND;VALUE=DATE:20250801
DTSTAMP:20260424T130641
CREATED:20250105T143627Z
LAST-MODIFIED:20250105T143627Z
UID:481-1753920000-1754006399@www.schuetzenverein-enkesen-paradiese.de
SUMMARY:Binden der Erntekrone
DESCRIPTION:
URL:http://www.schuetzenverein-enkesen-paradiese.de/event/binden-der-erntekrone/
LOCATION:Hof Richter\, Bruchstraße 11\, Soest\, NRW\, 59494\, Deutschland
ORGANIZER;CN="Sch%C3%BCtzenverein%20Enkesen%20Paradiese%20e.V.":MAILTO:sv_enkesen-paradiese@gmx.de
END:VEVENT
BEGIN:VEVENT
DTSTART;TZID=Europe/Berlin:20250618T200000
DTEND;TZID=Europe/Berlin:20250618T235900
DTSTAMP:20260424T130641
CREATED:20250105T143440Z
LAST-MODIFIED:20250605T145336Z
UID:479-1750276800-1750291140@www.schuetzenverein-enkesen-paradiese.de
SUMMARY:Rechnungslage
DESCRIPTION:
URL:http://www.schuetzenverein-enkesen-paradiese.de/event/rechnungslage-3/
LOCATION:Schützenhalle Enkesen Paradiese\, Vöhdeweg 32\,\, Soest\, 59494\, Deutschland
ORGANIZER;CN="Sch%C3%BCtzenverein%20Enkesen%20Paradiese%20e.V.":MAILTO:sv_enkesen-paradiese@gmx.de
END:VEVENT
BEGIN:VEVENT
DTSTART;VALUE=DATE:20250502
DTEND;VALUE=DATE:20250505
DTSTAMP:20260424T130641
CREATED:20250105T143354Z
LAST-MODIFIED:20250105T143354Z
UID:477-1746144000-1746403199@www.schuetzenverein-enkesen-paradiese.de
SUMMARY:Schützenfest 2025
DESCRIPTION:
URL:http://www.schuetzenverein-enkesen-paradiese.de/event/schuetzenfest-2025/
ORGANIZER;CN="Sch%C3%BCtzenverein%20Enkesen%20Paradiese%20e.V.":MAILTO:sv_enkesen-paradiese@gmx.de
END:VEVENT
BEGIN:VEVENT
DTSTART;TZID=Europe/Berlin:20250426T143000
DTEND;TZID=Europe/Berlin:20250426T180000
DTSTAMP:20260424T130641
CREATED:20250105T143324Z
LAST-MODIFIED:20250415T165210Z
UID:475-1745677800-1745690400@www.schuetzenverein-enkesen-paradiese.de
SUMMARY:Großreinigung der Halle
DESCRIPTION:
URL:http://www.schuetzenverein-enkesen-paradiese.de/event/grossreinigung-der-halle-2/
LOCATION:Schützenhalle Enkesen Paradiese\, Vöhdeweg 32\,\, Soest\, 59494\, Deutschland
ORGANIZER;CN="Sch%C3%BCtzenverein%20Enkesen%20Paradiese%20e.V.":MAILTO:sv_enkesen-paradiese@gmx.de
END:VEVENT
BEGIN:VEVENT
DTSTART;TZID=Europe/Berlin:20250420T180000
DTEND;TZID=Europe/Berlin:20250420T235900
DTSTAMP:20260424T130641
CREATED:20250105T143255Z
LAST-MODIFIED:20250331T065547Z
UID:473-1745172000-1745193540@www.schuetzenverein-enkesen-paradiese.de
SUMMARY:Osterfeuer
DESCRIPTION:
URL:http://www.schuetzenverein-enkesen-paradiese.de/event/osterfeuer/
LOCATION:Schützenhalle Enkesen Paradiese\, Vöhdeweg 32\,\, Soest\, 59494\, Deutschland
ORGANIZER;CN="Sch%C3%BCtzenverein%20Enkesen%20Paradiese%20e.V.":MAILTO:sv_enkesen-paradiese@gmx.de
END:VEVENT
BEGIN:VEVENT
DTSTART;TZID=Europe/Berlin:20250404T200000
DTEND;TZID=Europe/Berlin:20250404T235900
DTSTAMP:20260424T130641
CREATED:20250105T142522Z
LAST-MODIFIED:20250304T092330Z
UID:466-1743796800-1743811140@www.schuetzenverein-enkesen-paradiese.de
SUMMARY:Jahreshauptversammlung
DESCRIPTION:
URL:http://www.schuetzenverein-enkesen-paradiese.de/event/jahreshauptversammlung-3/
LOCATION:Schützenhalle Enkesen Paradiese\, Vöhdeweg 32\,\, Soest\, 59494\, Deutschland
CATEGORIES:Schützenverein
ORGANIZER;CN="Sch%C3%BCtzenverein%20Enkesen%20Paradiese%20e.V.":MAILTO:sv_enkesen-paradiese@gmx.de
END:VEVENT
BEGIN:VEVENT
DTSTART;TZID=Europe/Berlin:20250111T190000
DTEND;TZID=Europe/Berlin:20250111T230000
DTSTAMP:20260424T130641
CREATED:20250105T142927Z
LAST-MODIFIED:20250105T143026Z
UID:468-1736622000-1736636400@www.schuetzenverein-enkesen-paradiese.de
SUMMARY:Kneipenabend
DESCRIPTION:
URL:http://www.schuetzenverein-enkesen-paradiese.de/event/kneipenabend/
LOCATION:Schützenhalle Enkesen Paradiese\, Vöhdeweg 32\,\, Soest\, 59494\, Deutschland
ORGANIZER;CN="Sch%C3%BCtzenverein%20Enkesen%20Paradiese%20e.V.":MAILTO:sv_enkesen-paradiese@gmx.de
END:VEVENT
BEGIN:VEVENT
DTSTART;TZID=Europe/Berlin:20240929T110000
DTEND;TZID=Europe/Berlin:20240929T170000
DTSTAMP:20260424T130641
CREATED:20240927T091920Z
LAST-MODIFIED:20240927T091920Z
UID:460-1727607600-1727629200@www.schuetzenverein-enkesen-paradiese.de
SUMMARY:Erntedankfest 2024
DESCRIPTION:
URL:http://www.schuetzenverein-enkesen-paradiese.de/event/erntedankfest-2024/
LOCATION:Schützenhalle Enkesen Paradiese\, Vöhdeweg 32\,\, Soest\, 59494\, Deutschland
CATEGORIES:Heimatverein,Schützenverein
ORGANIZER;CN="Sch%C3%BCtzenverein%20Enkesen%20Paradiese%20e.V.":MAILTO:sv_enkesen-paradiese@gmx.de
END:VEVENT
BEGIN:VEVENT
DTSTART;TZID=Europe/Berlin:20240529T200000
DTEND;TZID=Europe/Berlin:20240529T233000
DTSTAMP:20260424T130641
CREATED:20240527T094454Z
LAST-MODIFIED:20240527T094454Z
UID:456-1717012800-1717025400@www.schuetzenverein-enkesen-paradiese.de
SUMMARY:Rechnungslage 2024
DESCRIPTION:
URL:http://www.schuetzenverein-enkesen-paradiese.de/event/rechnungslage-2024/
LOCATION:Schützenhalle Enkesen Paradiese\, Vöhdeweg 32\,\, Soest\, 59494\, Deutschland
ORGANIZER;CN="Sch%C3%BCtzenverein%20Enkesen%20Paradiese%20e.V.":MAILTO:sv_enkesen-paradiese@gmx.de
END:VEVENT
BEGIN:VEVENT
DTSTART;VALUE=DATE:20240503
DTEND;VALUE=DATE:20240506
DTSTAMP:20260424T130641
CREATED:20240122T105543Z
LAST-MODIFIED:20240122T105543Z
UID:381-1714694400-1714953599@www.schuetzenverein-enkesen-paradiese.de
SUMMARY:Jubiläumsschützenfest 2024
DESCRIPTION:200 Jahre Schützenverein Enkesen-Paradiese e.V.
URL:http://www.schuetzenverein-enkesen-paradiese.de/event/jubilaeumsschuetzenfest-2024/
ORGANIZER;CN="Sch%C3%BCtzenverein%20Enkesen%20Paradiese%20e.V.":MAILTO:sv_enkesen-paradiese@gmx.de
END:VEVENT
BEGIN:VEVENT
DTSTART;VALUE=DATE:20240501
DTEND;VALUE=DATE:20240502
DTSTAMP:20260424T130641
CREATED:20240122T105419Z
LAST-MODIFIED:20240122T105419Z
UID:379-1714521600-1714607999@www.schuetzenverein-enkesen-paradiese.de
SUMMARY:Jubiläumsschützenfest 2024 - Kaiserschießen
DESCRIPTION:
URL:http://www.schuetzenverein-enkesen-paradiese.de/event/jubilaeumsschuetzenfest-2024-kaiserschiessen/
LOCATION:Maschinenschuppen Enkesen\, Feidweg 1\, Soest\, 59494\, Deutschland
ORGANIZER;CN="Sch%C3%BCtzenverein%20Enkesen%20Paradiese%20e.V.":MAILTO:sv_enkesen-paradiese@gmx.de
END:VEVENT
BEGIN:VEVENT
DTSTART;TZID=Europe/Berlin:20240430T170000
DTEND;TZID=Europe/Berlin:20240430T233000
DTSTAMP:20260424T130641
CREATED:20240409T131854Z
LAST-MODIFIED:20240409T131854Z
UID:438-1714496400-1714519800@www.schuetzenverein-enkesen-paradiese.de
SUMMARY:Laubholen und Halle schmücken
DESCRIPTION:
URL:http://www.schuetzenverein-enkesen-paradiese.de/event/laubholen-und-halle-schmuecken/
LOCATION:Schützenhalle Enkesen Paradiese\, Vöhdeweg 32\,\, Soest\, 59494\, Deutschland
ORGANIZER;CN="Sch%C3%BCtzenverein%20Enkesen%20Paradiese%20e.V.":MAILTO:sv_enkesen-paradiese@gmx.de
END:VEVENT
BEGIN:VEVENT
DTSTART;TZID=Europe/Berlin:20240429T170000
DTEND;TZID=Europe/Berlin:20240429T233000
DTSTAMP:20260424T130641
CREATED:20240409T131803Z
LAST-MODIFIED:20240409T131803Z
UID:436-1714410000-1714433400@www.schuetzenverein-enkesen-paradiese.de
SUMMARY:Kränzen
DESCRIPTION:
URL:http://www.schuetzenverein-enkesen-paradiese.de/event/kraenzen/
LOCATION:Maschinenschuppen Enkesen\, Feidweg 1\, Soest\, 59494\, Deutschland
ORGANIZER;CN="Sch%C3%BCtzenverein%20Enkesen%20Paradiese%20e.V.":MAILTO:sv_enkesen-paradiese@gmx.de
END:VEVENT
BEGIN:VEVENT
DTSTART;TZID=Europe/Berlin:20240427T100000
DTEND;TZID=Europe/Berlin:20240427T140000
DTSTAMP:20260424T130641
CREATED:20240409T131654Z
LAST-MODIFIED:20240409T131654Z
UID:434-1714212000-1714226400@www.schuetzenverein-enkesen-paradiese.de
SUMMARY:Hallenreinigung vor dem Jubiläumsfest
DESCRIPTION:
URL:http://www.schuetzenverein-enkesen-paradiese.de/event/hallenreinigung-vor-dem-jubilaeumsfest/
LOCATION:Schützenhalle Enkesen Paradiese\, Vöhdeweg 32\,\, Soest\, 59494\, Deutschland
ORGANIZER;CN="Sch%C3%BCtzenverein%20Enkesen%20Paradiese%20e.V.":MAILTO:sv_enkesen-paradiese@gmx.de
END:VEVENT
BEGIN:VEVENT
DTSTART;TZID=Europe/Berlin:20240331T180000
DTEND;TZID=Europe/Berlin:20240331T233000
DTSTAMP:20260424T130641
CREATED:20240319T191325Z
LAST-MODIFIED:20240326T065222Z
UID:398-1711908000-1711927800@www.schuetzenverein-enkesen-paradiese.de
SUMMARY:Osterfeuer 2024
DESCRIPTION:
URL:http://www.schuetzenverein-enkesen-paradiese.de/event/osterfeuer-2024/
LOCATION:Schützenhalle Enkesen Paradiese\, Vöhdeweg 32\,\, Soest\, 59494\, Deutschland
ORGANIZER;CN="Sch%C3%BCtzenverein%20Enkesen%20Paradiese%20e.V.":MAILTO:sv_enkesen-paradiese@gmx.de
END:VEVENT
BEGIN:VEVENT
DTSTART;TZID=Europe/Berlin:20240224T200000
DTEND;TZID=Europe/Berlin:20240224T220000
DTSTAMP:20260424T130641
CREATED:20240122T105223Z
LAST-MODIFIED:20240201T140452Z
UID:377-1708804800-1708812000@www.schuetzenverein-enkesen-paradiese.de
SUMMARY:Jahreshauptversammlung 2024
DESCRIPTION:
URL:http://www.schuetzenverein-enkesen-paradiese.de/event/jahreshauptversammlung-2024/
LOCATION:Schützenhalle Enkesen Paradiese\, Vöhdeweg 32\,\, Soest\, 59494\, Deutschland
ORGANIZER;CN="Sch%C3%BCtzenverein%20Enkesen%20Paradiese%20e.V.":MAILTO:sv_enkesen-paradiese@gmx.de
END:VEVENT
BEGIN:VEVENT
DTSTART;TZID=Europe/Berlin:20230924T110000
DTEND;TZID=Europe/Berlin:20230924T170000
DTSTAMP:20260424T130641
CREATED:20230919T065957Z
LAST-MODIFIED:20230920T103552Z
UID:370-1695553200-1695574800@www.schuetzenverein-enkesen-paradiese.de
SUMMARY:Erntedankfest 2023
DESCRIPTION:
URL:http://www.schuetzenverein-enkesen-paradiese.de/event/erntedankfest-2023/
LOCATION:Schützenhalle Enkesen Paradiese\, Vöhdeweg 32\,\, Soest\, 59494\, Deutschland
CATEGORIES:Heimatverein,Schützenverein
END:VEVENT
BEGIN:VEVENT
DTSTART;VALUE=DATE:20230916
DTEND;VALUE=DATE:20230917
DTSTAMP:20260424T130641
CREATED:20230303T074039Z
LAST-MODIFIED:20230303T074039Z
UID:327-1694822400-1694908799@www.schuetzenverein-enkesen-paradiese.de
SUMMARY:Kreisschützenfest Dinker
DESCRIPTION:
URL:http://www.schuetzenverein-enkesen-paradiese.de/event/kreisschuetzenfest-dinker/
END:VEVENT
BEGIN:VEVENT
DTSTART;TZID=Europe/Berlin:20230607T200000
DTEND;TZID=Europe/Berlin:20230607T233000
DTSTAMP:20260424T130641
CREATED:20230530T110311Z
LAST-MODIFIED:20230530T110311Z
UID:367-1686168000-1686180600@www.schuetzenverein-enkesen-paradiese.de
SUMMARY:Rechnungslage
DESCRIPTION:
URL:http://www.schuetzenverein-enkesen-paradiese.de/event/rechnungslage-2/
LOCATION:Schützenhalle Enkesen Paradiese\, Vöhdeweg 32\,\, Soest\, 59494\, Deutschland
ORGANIZER;CN="Sch%C3%BCtzenverein%20Enkesen%20Paradiese%20e.V.":MAILTO:sv_enkesen-paradiese@gmx.de
END:VEVENT
BEGIN:VEVENT
DTSTART;VALUE=DATE:20230603
DTEND;VALUE=DATE:20230604
DTSTAMP:20260424T130641
CREATED:20230303T073919Z
LAST-MODIFIED:20230303T073919Z
UID:325-1685750400-1685836799@www.schuetzenverein-enkesen-paradiese.de
SUMMARY:200-jähriges Bestehen des SV Ampen-Jakobifeldmark
DESCRIPTION:
URL:http://www.schuetzenverein-enkesen-paradiese.de/event/200-jaehriges-bestehen-des-sv-ampen-jakobifeldmark/
END:VEVENT
BEGIN:VEVENT
DTSTART;VALUE=DATE:20230505
DTEND;VALUE=DATE:20230508
DTSTAMP:20260424T130641
CREATED:20230218T192117Z
LAST-MODIFIED:20230218T192117Z
UID:317-1683244800-1683503999@www.schuetzenverein-enkesen-paradiese.de
SUMMARY:Schützenfest 2023
DESCRIPTION:
URL:http://www.schuetzenverein-enkesen-paradiese.de/event/schuetzenfest-2023/
CATEGORIES:Schützenverein
END:VEVENT
BEGIN:VEVENT
DTSTART;TZID=Europe/Berlin:20230426T180000
DTEND;TZID=Europe/Berlin:20230426T193000
DTSTAMP:20260424T130641
CREATED:20230424T094028Z
LAST-MODIFIED:20230424T094303Z
UID:348-1682532000-1682537400@www.schuetzenverein-enkesen-paradiese.de
SUMMARY:Aufbau Vogelstange
DESCRIPTION:
URL:http://www.schuetzenverein-enkesen-paradiese.de/event/aufbau-vogelstange/
LOCATION:Maschinenschuppen Enkesen\, Feidweg 1\, Soest\, 59494\, Deutschland
ORGANIZER;CN="Sch%C3%BCtzenverein%20Enkesen%20Paradiese%20e.V.":MAILTO:sv_enkesen-paradiese@gmx.de
END:VEVENT
BEGIN:VEVENT
DTSTART;TZID=Europe/Berlin:20230422T140000
DTEND;TZID=Europe/Berlin:20230422T190000
DTSTAMP:20260424T130641
CREATED:20230328T063504Z
LAST-MODIFIED:20230328T063555Z
UID:330-1682172000-1682190000@www.schuetzenverein-enkesen-paradiese.de
SUMMARY:Generalreinigung der Halle
DESCRIPTION:am Samstag\, den 22.04.2023 ab 14 Uhr
URL:http://www.schuetzenverein-enkesen-paradiese.de/event/generalreinigung-der-halle/
LOCATION:Schützenhalle Enkesen Paradiese\, Vöhdeweg 32\,\, Soest\, 59494\, Deutschland
CATEGORIES:Schützenverein
ORGANIZER;CN="Sch%C3%BCtzenverein%20Enkesen%20Paradiese%20e.V.":MAILTO:sv_enkesen-paradiese@gmx.de
END:VEVENT
BEGIN:VEVENT
DTSTART;TZID=Europe/Berlin:20230409T180000
DTEND;TZID=Europe/Berlin:20230409T233000
DTSTAMP:20260424T130641
CREATED:20230407T104130Z
LAST-MODIFIED:20230407T104130Z
UID:333-1681063200-1681083000@www.schuetzenverein-enkesen-paradiese.de
SUMMARY:Osterfeuer 2023
DESCRIPTION:
URL:http://www.schuetzenverein-enkesen-paradiese.de/event/osterfeuer-2023/
LOCATION:Schützenhalle Enkesen Paradiese\, Vöhdeweg 32\,\, Soest\, 59494\, Deutschland
CATEGORIES:Schützenverein
ORGANIZER;CN="Sch%C3%BCtzenverein%20Enkesen%20Paradiese%20e.V.":MAILTO:sv_enkesen-paradiese@gmx.de
END:VEVENT
END:VCALENDAR