BEGIN:VCALENDAR
VERSION:2.0
PRODID:-//Schützenverein Enkesen Paradiese e.V. - ECPv5.16.4//NONSGML v1.0//EN
CALSCALE:GREGORIAN
METHOD:PUBLISH
X-WR-CALNAME:Schützenverein Enkesen Paradiese e.V.
X-ORIGINAL-URL:http://www.schuetzenverein-enkesen-paradiese.de
X-WR-CALDESC:Veranstaltungen für Schützenverein Enkesen Paradiese e.V.
REFRESH-INTERVAL;VALUE=DURATION:PT1H
X-Robots-Tag:noindex
X-PUBLISHED-TTL:PT1H
BEGIN:VTIMEZONE
TZID:Europe/Berlin
BEGIN:DAYLIGHT
TZOFFSETFROM:+0100
TZOFFSETTO:+0200
TZNAME:CEST
DTSTART:20260329T010000
END:DAYLIGHT
BEGIN:STANDARD
TZOFFSETFROM:+0200
TZOFFSETTO:+0100
TZNAME:CET
DTSTART:20261025T010000
END:STANDARD
END:VTIMEZONE
BEGIN:VEVENT
DTSTART;VALUE=DATE:20260501
DTEND;VALUE=DATE:20260504
DTSTAMP:20260424T112026
CREATED:20260115T100553Z
LAST-MODIFIED:20260407T073220Z
UID:560-1777593600-1777852799@www.schuetzenverein-enkesen-paradiese.de
SUMMARY:Schützenfest 2026
DESCRIPTION:
URL:http://www.schuetzenverein-enkesen-paradiese.de/event/schuetzenfest-2026/
LOCATION:Schützenhalle Enkesen Paradiese\, Vöhdeweg 32\,\, Soest\, 59494\, Deutschland
ORGANIZER;CN="Sch%C3%BCtzenverein%20Enkesen%20Paradiese%20e.V.":MAILTO:sv_enkesen-paradiese@gmx.de
END:VEVENT
BEGIN:VEVENT
DTSTART;VALUE=DATE:20260524
DTEND;VALUE=DATE:20260525
DTSTAMP:20260424T112026
CREATED:20260115T100644Z
LAST-MODIFIED:20260115T100644Z
UID:562-1779580800-1779667199@www.schuetzenverein-enkesen-paradiese.de
SUMMARY:Besuch Schützenfest Meiningsen
DESCRIPTION:
URL:http://www.schuetzenverein-enkesen-paradiese.de/event/besuch-schuetzenfest-meiningsen/
END:VEVENT
BEGIN:VEVENT
DTSTART;VALUE=DATE:20260531
DTEND;VALUE=DATE:20260601
DTSTAMP:20260424T112026
CREATED:20260115T100731Z
LAST-MODIFIED:20260115T100804Z
UID:564-1780185600-1780271999@www.schuetzenverein-enkesen-paradiese.de
SUMMARY:Besuch Schützenfest Ampen
DESCRIPTION:
URL:http://www.schuetzenverein-enkesen-paradiese.de/event/besuch-schuetzenfest-ampen/
END:VEVENT
BEGIN:VEVENT
DTSTART;TZID=Europe/Berlin:20260603T200000
DTEND;TZID=Europe/Berlin:20260603T233000
DTSTAMP:20260424T112026
CREATED:20260115T100837Z
LAST-MODIFIED:20260115T100902Z
UID:566-1780516800-1780529400@www.schuetzenverein-enkesen-paradiese.de
SUMMARY:Rechnungslage
DESCRIPTION:
URL:http://www.schuetzenverein-enkesen-paradiese.de/event/rechnungslage-4/
LOCATION:Schützenhalle Enkesen Paradiese\, Vöhdeweg 32\,\, Soest\, 59494\, Deutschland
ORGANIZER;CN="Sch%C3%BCtzenverein%20Enkesen%20Paradiese%20e.V.":MAILTO:sv_enkesen-paradiese@gmx.de
END:VEVENT
BEGIN:VEVENT
DTSTART;VALUE=DATE:20260703
DTEND;VALUE=DATE:20260706
DTSTAMP:20260424T112026
CREATED:20260115T101006Z
LAST-MODIFIED:20260115T101006Z
UID:568-1783036800-1783295999@www.schuetzenverein-enkesen-paradiese.de
SUMMARY:Besuch Jubiläumsschützenfest Ostönnen
DESCRIPTION:
URL:http://www.schuetzenverein-enkesen-paradiese.de/event/besuch-jubilaeumsschuetzenfest-ostoennen/
END:VEVENT
BEGIN:VEVENT
DTSTART;VALUE=DATE:20260730
DTEND;VALUE=DATE:20260731
DTSTAMP:20260424T112026
CREATED:20260115T101045Z
LAST-MODIFIED:20260115T101045Z
UID:570-1785369600-1785455999@www.schuetzenverein-enkesen-paradiese.de
SUMMARY:Erntekronebinden
DESCRIPTION:
URL:http://www.schuetzenverein-enkesen-paradiese.de/event/erntekronebinden/
END:VEVENT
BEGIN:VEVENT
DTSTART;VALUE=DATE:20260906
DTEND;VALUE=DATE:20260907
DTSTAMP:20260424T112026
CREATED:20260115T101121Z
LAST-MODIFIED:20260115T101121Z
UID:572-1788652800-1788739199@www.schuetzenverein-enkesen-paradiese.de
SUMMARY:Kinderklamottenmarkt
DESCRIPTION:
URL:http://www.schuetzenverein-enkesen-paradiese.de/event/kinderklamottenmarkt-2/
LOCATION:Schützenhalle Enkesen Paradiese\, Vöhdeweg 32\,\, Soest\, 59494\, Deutschland
ORGANIZER;CN="Sch%C3%BCtzenverein%20Enkesen%20Paradiese%20e.V.":MAILTO:sv_enkesen-paradiese@gmx.de
END:VEVENT
BEGIN:VEVENT
DTSTART;VALUE=DATE:20260926
DTEND;VALUE=DATE:20260927
DTSTAMP:20260424T112026
CREATED:20260115T101208Z
LAST-MODIFIED:20260115T101208Z
UID:574-1790380800-1790467199@www.schuetzenverein-enkesen-paradiese.de
SUMMARY:Erntedankfest
DESCRIPTION:
URL:http://www.schuetzenverein-enkesen-paradiese.de/event/erntedankfest-2/
END:VEVENT
BEGIN:VEVENT
DTSTART;VALUE=DATE:20261113
DTEND;VALUE=DATE:20261114
DTSTAMP:20260424T112026
CREATED:20260115T101246Z
LAST-MODIFIED:20260115T101246Z
UID:576-1794528000-1794614399@www.schuetzenverein-enkesen-paradiese.de
SUMMARY:Spielzeugmarkt
DESCRIPTION:
URL:http://www.schuetzenverein-enkesen-paradiese.de/event/spielzeugmarkt/
END:VEVENT
BEGIN:VEVENT
DTSTART;TZID=Europe/Berlin:20261115T100000
DTEND;TZID=Europe/Berlin:20261115T110000
DTSTAMP:20260424T112026
CREATED:20260115T101324Z
LAST-MODIFIED:20260115T101324Z
UID:578-1794736800-1794740400@www.schuetzenverein-enkesen-paradiese.de
SUMMARY:Volkstrauertag
DESCRIPTION:
URL:http://www.schuetzenverein-enkesen-paradiese.de/event/volkstrauertag-3/
END:VEVENT
END:VCALENDAR