BEGIN:VCALENDAR
VERSION:2.0
PRODID:-//Schützenverein Enkesen Paradiese e.V. - ECPv5.16.4//NONSGML v1.0//EN
CALSCALE:GREGORIAN
METHOD:PUBLISH
X-ORIGINAL-URL:http://www.schuetzenverein-enkesen-paradiese.de
X-WR-CALDESC:Veranstaltungen für Schützenverein Enkesen Paradiese e.V.
REFRESH-INTERVAL;VALUE=DURATION:PT1H
X-Robots-Tag:noindex
X-PUBLISHED-TTL:PT1H
BEGIN:VTIMEZONE
TZID:Europe/Berlin
BEGIN:DAYLIGHT
TZOFFSETFROM:+0100
TZOFFSETTO:+0200
TZNAME:CEST
DTSTART:20260329T010000
END:DAYLIGHT
BEGIN:STANDARD
TZOFFSETFROM:+0200
TZOFFSETTO:+0100
TZNAME:CET
DTSTART:20261025T010000
END:STANDARD
END:VTIMEZONE
BEGIN:VEVENT
DTSTART;VALUE=DATE:20260501
DTEND;VALUE=DATE:20260504
DTSTAMP:20260424T232749
CREATED:20260115T100553Z
LAST-MODIFIED:20260407T073220Z
UID:560-1777593600-1777852799@www.schuetzenverein-enkesen-paradiese.de
SUMMARY:Schützenfest 2026
DESCRIPTION:
URL:http://www.schuetzenverein-enkesen-paradiese.de/event/schuetzenfest-2026/
LOCATION:Schützenhalle Enkesen Paradiese\, Vöhdeweg 32\,\, Soest\, 59494\, Deutschland
ORGANIZER;CN="Sch%C3%BCtzenverein%20Enkesen%20Paradiese%20e.V.":MAILTO:sv_enkesen-paradiese@gmx.de
END:VEVENT
BEGIN:VEVENT
DTSTART;VALUE=DATE:20260524
DTEND;VALUE=DATE:20260525
DTSTAMP:20260424T232749
CREATED:20260115T100644Z
LAST-MODIFIED:20260115T100644Z
UID:562-1779580800-1779667199@www.schuetzenverein-enkesen-paradiese.de
SUMMARY:Besuch Schützenfest Meiningsen
DESCRIPTION:
URL:http://www.schuetzenverein-enkesen-paradiese.de/event/besuch-schuetzenfest-meiningsen/
END:VEVENT
BEGIN:VEVENT
DTSTART;VALUE=DATE:20260531
DTEND;VALUE=DATE:20260601
DTSTAMP:20260424T232749
CREATED:20260115T100731Z
LAST-MODIFIED:20260115T100804Z
UID:564-1780185600-1780271999@www.schuetzenverein-enkesen-paradiese.de
SUMMARY:Besuch Schützenfest Ampen
DESCRIPTION:
URL:http://www.schuetzenverein-enkesen-paradiese.de/event/besuch-schuetzenfest-ampen/
END:VEVENT
END:VCALENDAR